BEGIN:VCALENDAR
PRODID:mpcSys
VERSION:2.0
METHOD:PUBLISH
BEGIN:VEVENT
DTSTART;VALUE=DATE:20240315
DTEND;VALUE=DATE:20240316
SUMMARY:Kreisjägertag
DESCRIPTION:\n\n	\n	\n	\n\n\n\n	\n	\n	Kreisjägertag in Ahrensfelde \n\n\n	\n	\n		\n		\n\n\n\n	\n	\n	Mitgliederversammlung des Jagdverbandes Bernau e.V. \n		\n		\n		\n\n\n	\n	\n		\n		\n\n\n\n	\n	\n	\n		\n		\n		\n\n\n\n	\n	\n	\n		\n		\n		EINLADUNG \n		\n		\n		\n			\n			\n			\n\n\n	\n	\n		\n		\n			\n			\n\n\n\n	\n	\n	\n		\n		\n		\n\n\n\n	\n	\n	Liebe Weidgenossin, lieber Weidgenosse, \n		\n		\n		\n\n\n	\n	\n		\n		\n\n\n\n	\n	\n	\n		\n		\n		\n\n\n\n	\n	\n	im Namen des Geschäftsführenden Vorstandes lade ich Sie herzlich zu unserer \n		\n		\n		\n\n\n	\n	\n		\n		\n\n\n\n	\n	\n	\n		\n		\n		\n\n\n\n	\n	\n	\n		\n		\n		ordentlichen Mitgliedersammlung\n		\n		\n		 am\n		\n		\n		\n			\n			\n			\n\n\n	\n	\n		\n		\n			\n			\n\n\n\n	\n	\n	\n		\n		\n		\n			\n			\n			\n\n\n\n	\n	\n	\n		\n		\n		15. März 2024 um 18:00 Uhr in der \n		\n		\n		\n\n\n	\n	\n		\n		\n\n\n\n	\n	\n	Gaststätte Krummensee \n		\n		\n		\n\n\n	\n	\n		\n		\n\n\n\n	\n	\n	\n		\n		\n		Dorfstraße 18, 16356 Werneuchen OT Krummensee* ein. \n		\n		\n		\n\n\n	\n	\n		\n		\n\n\n\n	\n	\n	\n		\n		\n		\n\n\n\n	\n	\n	Die (vorläufige) Tagesordnung – siehe unten – sowie eine Anfahrskizze sind hier zu finden. Mitgliederversammlungen bedeuten immer auch die Möglichkeit des fachlichen Austausches. In diesem Jahr freue ich mich besonders auf folgenden Vortrag mit anschließender reger Diskussion: \n		\n		\n		\n\n\n	\n	\n		\n		\n\n\n\n	\n	\n	\n		\n		\n		\n\n\n\n	\n	\n	Revierförster Jörg Kabelitz, Grenzhaus \n		\n		\n		\n\n\n	\n	\n		\n		\n\n\n\n	\n	\n	“Einblicke in die Lebensraumnutzung von Rotwild im Nordosten der Uckermark - und die Frage, ob Waldumbau ohne Zaun möglich ist.” \n		\n		\n		\n\n\n\n	\n	\n	\n		\n		\n		\n\n\n\n	\n	\n		\n		\n\n\n	\n	\n	Erinnern möchte ich an dieser Stelle gern auch an unser \n		\n		\n		Jägerfest am 16. März in Parsteinwerder. Nähere Informationen hierzu sind ebenfalls auf unserer Homepage abrufbar. \n		\n		\n		\n\n\n\n	\n	\n	\n		\n		\n		\n\n\n\n	\n	\n		\n		\n\n\n	\n	\n	Herzliche Grüße und Weidmannsheil \n		\n		\n		\n\n\n\n	\n	\n	\n		\n		\n		\n\n\n\n	\n	\n		\n		\n\n\n	\n	\n	Jagdverband Bernau e.V. \n		\n		\n		\n\n\n\n	\n	\n	Jörg Stendel \n		\n		\n		\n\n	\n		\n\n\n\n	\n	\n	\n		\n		\n		\n	\n	\n	\n\n\n\n	\n	\n	*Hinweis: Direkt an der Gaststätte \n		\n		\n		in Krummensee stehen kaum Parkplätze zur Verfügung. Deshalb bitte möglichst Fahrgemeinschaften bilden und in die Zeitplanung ggf. einen kleinen Fußmarsch im Ort einkalkulieren. \n		\n		\n		\n\n\n\n	\n	\n	\n		\n		\n		\n\n\n\n	\n	\n	\n		\n		\n		\n\n\n\n	\n	\n	\n		\n		\n		Tagesordnung\n\n	\n		\n			\n\n\n\n	\n	\n	1. Eröffnung und Begrüßung\n\n\n\n	\n	\n	\n		\n		\n		\n\n\n\n	\n	\n	2. Bestimmung der Versammlungsleitung und Protokollführung\n\n\n\n	\n	\n	\n		\n		\n		\n\n\n\n	\n	\n	3. Totenehrung\n\n\n\n	\n	\n	\n		\n		\n		\n\n\n\n	\n	\n	4. Feststellung der Ordnungsmäßigkeit der Ladung\n\n\n\n	\n	\n	\n		\n		\n		\n\n\n\n	\n	\n	5. Feststellung der Tagesordnung\n\n\n\n	\n	\n	\n		\n		\n		\n\n\n\n	\n	\n	6. Beschluss zur Genehmigung der Niederschrift der Mitgliederversammlung 2023\n\n\n\n	\n	\n	\n		\n		\n		\n\n\n\n	\n	\n	7. Bericht des Vorstandes für das Jahr 2023\n\n\n\n	\n	\n	\n		\n		\n		\n\n\n\n	\n	\n	8. Finanzbericht des Vorstandes für das Jahr 2023 und Haushaltsplan für 2024\n\n\n\n	\n	\n	\n		\n		\n		\n\n\n\n	\n	\n	9. Bericht der Prüfer für das Kassen- und Haushaltswesen\n\n\n\n	\n	\n	\n		\n		\n		\n\n\n\n	\n	\n	10. Aussprache über Berichte und Haushaltsplan\n\n\n\n	\n	\n	\n		\n		\n		\n\n\n\n	\n	\n	11. Vorliegende Anträge und Beschlussfassungen zu\n\n\n\n	\n	\n	\n		\n		\n		\n\n\n\n	\n	\n	11.1 Beschluss zum Bericht des Vorstandes\n\n\n\n	\n	\n	\n		\n		\n		\n\n\n\n	\n	\n	11.2 Beschluss zum Bericht der Prüfer für das Kassen- und Haushaltswesen\n\n\n\n	\n	\n	\n		\n		\n		\n\n\n\n	\n	\n	11.3 Beschluss zur Entlastung des Vorstandes\n\n\n\n	\n	\n	\n		\n		\n		\n\n\n\n	\n	\n	11.4 Beschluss zur Genehmigung des Haushaltsplanes\n\n\n\n	\n	\n	\n		\n		\n		\n\n\n\n	\n	\n	12. Wahl (Nachwahl) der Delegierten und Ersatzdelegierten für den Landesjägertag am \n	\n	\n	01. Juni 2024\n\n\n\n	\n	\n	\n		\n		\n		\n\n\n\n	\n	\n	13. Auszeichnungen\n\n\n\n	\n	\n	\n		\n		\n		\n\n\n\n	\n	\n	14. Fachliche Weiterbildung mit Revierförster Jörg Kabelitz, Grenzhaus\n\n\n\n	\n	\n	“Einblicke in die Lebensraumnutzung von Rotwild im Nordosten\n\n\n\n	\n	\n	der Uckermark - und die Frage, ob Waldumbau ohne Zaun möglich\n\n\n\n	\n	\n	ist.”\n\n\n&nbsp;\n\n\n\n	\n	\n	15. Schlusswort des Vorsitzenden mit Schließung der Versammlung\n\n\n\n	\n	\n	\n		\n		\n		\n\n\n\n	\n	\n	\n		\n		\n		\n	\n	\n	\n\n\n\n	\n	\n	________________________________________________________________________________ \n		\n		\n		\n\n\n\n	\n	\n	\n		\n		\n		\n	\n	\n	\n		\n		\n		NUR FÜR EMFÄNGER VON EHRUNGEN:\n	\n	\n	\n	\n	\n	\n	\n	\n	Die diesjährige Mitgliederversammlung wollen wir gern zum Anlass nehmen, uns bei Dir/Ihnen für besondere Verdienste zu bedanken. Aus diesem Grunde möchten wir Dich besonders bitten, die persönliche Teilnahme einzurichten.\n\n\n\n\n\n\n\n\n\n\n\n\n\n\n
UID:4aa3e82a2a84ca0f5fd1f203133c9c8d
DTSTAMP:20260422T084241Z
END:VEVENT
END:VCALENDAR
