BEGIN:VCALENDAR
PRODID:mpcSys
VERSION:2.0
METHOD:PUBLISH
BEGIN:VEVENT
DTSTART;VALUE=DATE:20230506
DTEND;VALUE=DATE:20230508
SUMMARY:JÄGERTAG auf dem Krongut Bornstedt
DESCRIPTION:\n\n	\n	\n	\n	\n		\n		\n		\n		\n	\n	\n	\n	\n		\n		\n		\n		+++ Freie Plätze verfügbar! +++\n			\n			\n			\n			\n	\n	\n	\n	\n		\n		\n		\n		\n			\n			\n			\n			\n\n\n\n\n	\n	\n	\n	Jägertag mit Delegiertenversammlung und Jagdhornbläsertreffen auf dem Krongut Bornstedt\n\n\n\n\n	\n	\n	\n	\n		\n		\n		\n		\n\n\n\n\n\n\n\n\n	\n	\n	\n	Auch in diesem Jahr habe ich wieder \n		\n		\n		\n		einen Bus für die Fahrt zum Landesjägertag 2023 organisiert. Wir möchten das unsere Mitglieder davon regen Gebrauch machen, denn der ökologische Fußabdruck sollte an diesem Tag gering sein... \n\n\n	\n	\n		\n		\n\n\n\n	\n	\n	Datum: Samstag d. \n		\n	\n	\n	06.05.2023\n\n\n	\n	\n		\n		\n\n\n\n	\n	\n	Ziel: Krongut Potsdam\n\n\n	\n	\n		\n		\n\n\n\n	\n	\n	\n		Abfahrt 1.) Wildau 01\n\n\n	\n	\n		\n		\n\n\n\n	\n	\n	16244 Schorfheide OT Eichhorst\n\n\n	\n	\n		\n		\n\n\n\n	\n	\n	um 08.00 Uhr\n\n\n	\n	\n		\n		\n\n\n\n	\n	\n	\n		Abfahrt 2.) Bernau OBI Baumarkt\n\n\n	\n	\n		\n		\n\n\n\n	\n	\n	um 08.30 Uhr\n\n\n	\n	\n		\n		\n\n\n\n	\n	\n	\n		Rückfahrt: ca. 18.00 Uhr\n\n\n	\n	\n		\n		\n\n\n\n	\n	\n	Programm lt. Überläufer/ Mitteilungsblatt 05/ 2023\n\n\n	\n	\n		\n		\n\n\n\n	\n	\n	Anmeldung für die Fahrt: Lutz Hamann E-Mail: FoersterHamann@aol.com\n\n\n	\n	\n\n\n\n	\n	\n	Tel. 0162- 2446782\n\n\n	\n	\n		\n		\n\n\n\n	\n	\n	FAX 033363 52971\n\n\n\n\n	\n	\n	\n	\n\n\n\n\n	\n	\n	\n		\n		\n		\n			\n			\n			Weidmannsheil\n\n\n\n	\n	\n	\n		\n		\n		\n\n\n\n	\n	\n	Lutz
UID:bbefb458cdf37fc76db1f61e1b6745a9
DTSTAMP:20260420T104905Z
END:VEVENT
END:VCALENDAR
