BEGIN:VCALENDAR
PRODID:mpcSys
VERSION:2.0
METHOD:PUBLISH
BEGIN:VEVENT
DTSTART;VALUE=DATE:20200926
DTEND;VALUE=DATE:20200927
SUMMARY:JS Krummensee/Seefeld/Weesow/Werneuchen - Schießen
DESCRIPTION:\n\n	\n	\n		\n		\n\n\n	\n	\n		\n		\n\n\n	\n	Unser Jägerschaftsschießen findet statt am:&nbsp; \n		\n		\n\n\n	\n	\n		\n		\n\n\n	\n	26. September 2020 um 8:30 Uhr auf dem Schießplatz Parsteinwerder \n	\n	
UID:c06fc6d4c737ccc3f92e3ac4072c4897
DTSTAMP:20260425T130947Z
END:VEVENT
END:VCALENDAR
